BEGIN:VCALENDAR
VERSION:2.0
PRODID:-//NAPGC - ECPv6.13.2.1//NONSGML v1.0//EN
CALSCALE:GREGORIAN
METHOD:PUBLISH
X-ORIGINAL-URL:https://napgc.org.uk
X-WR-CALDESC:Events for NAPGC
REFRESH-INTERVAL;VALUE=DURATION:PT1H
X-Robots-Tag:noindex
X-PUBLISHED-TTL:PT1H
BEGIN:VTIMEZONE
TZID:Europe/London
BEGIN:DAYLIGHT
TZOFFSETFROM:+0000
TZOFFSETTO:+0100
TZNAME:BST
DTSTART:20230326T010000
END:DAYLIGHT
BEGIN:STANDARD
TZOFFSETFROM:+0100
TZOFFSETTO:+0000
TZNAME:GMT
DTSTART:20231029T010000
END:STANDARD
END:VTIMEZONE
BEGIN:VEVENT
DTSTART;VALUE=DATE:20230809
DTEND;VALUE=DATE:20230810
DTSTAMP:20260424T113553
CREATED:20230815T114026Z
LAST-MODIFIED:20230815T114026Z
UID:10000126-1691539200-1691625599@napgc.org.uk
SUMMARY:Mens Senior Championship 2023
DESCRIPTION:Entry\, Startsheet & Results:   Entry\, Startsheet & Results \n\njQuery(‘li.move-to-eo-event-meta’).prependTo(‘.eo-event-meta’).removeClass(‘move-to-eo-event-meta’); \nSenior Individual and Team Championships\n  \nMAIN DETAILS: \nDate: 9th August 2023\nEntry Fee: Â£TBC\nClosing Date: 19th July 2023\nFormat: Individual Stableford and Pairs combined Stableford\nHcp Index Limit 36.0\nAge Limit: Senior (55+)\nIndividual entry : YES\nOrganiser: Kathy Maloney\n  \nOther Information\nThe competition is open to men who have reached the age of 55 on or before the 1st of January of the current year The maximum permitted handicap index is 36.0 A player may enter with a higher handicap index but they shall be limited to a handicap index of 36.0.\nPlayers who hold a WHS handicap and are members of clubs affiliated to the NAPGC may enter by completing an online entry form.\nTwo players who enter from the same NAPGC affiliated club may form a team and compete for the Burdett Team Trophy. \nThe following trophies will be awarded at the National Final: \n\n\n\nThe Riley Seniors Cup – Best nett stableford points by an individual\nThe Burdett Team Trophy – Best nett aggregate score of the two player teams.\nThe Dave Saveall Shield – Best nett stableford points scored by a player aged 70+\nNAPGC Trophy – Best gross stableford score by an individual\n\n\n\nMENS SENIOR CHAMPIONSHIP RULES 2023\nGENERAL COMPETITION RULES 2023
URL:https://napgc.org.uk/event/mens-senior-championship-2023/
LOCATION:Huntswood Golf Club\, Taplow Common Rd\, Taplow\, Slough SL1 8LS\, United Kingdom
CATEGORIES:Seniors
GEO:51.5044672;-0.5009509
X-APPLE-STRUCTURED-LOCATION;VALUE=URI;X-ADDRESS=Huntswood Golf Club Taplow Common Rd Taplow Slough SL1 8LS United Kingdom;X-APPLE-RADIUS=500;X-TITLE=Taplow Common Rd\, Taplow\, Slough SL1 8LS:geo:-0.5009509,51.5044672
END:VEVENT
END:VCALENDAR