BEGIN:VCALENDAR
VERSION:2.0
PRODID:-//NAPGC - ECPv6.13.2.1//NONSGML v1.0//EN
CALSCALE:GREGORIAN
METHOD:PUBLISH
X-ORIGINAL-URL:https://napgc.org.uk
X-WR-CALDESC:Events for NAPGC
REFRESH-INTERVAL;VALUE=DURATION:PT1H
X-Robots-Tag:noindex
X-PUBLISHED-TTL:PT1H
BEGIN:VTIMEZONE
TZID:Europe/London
BEGIN:DAYLIGHT
TZOFFSETFROM:+0000
TZOFFSETTO:+0100
TZNAME:BST
DTSTART:20230326T010000
END:DAYLIGHT
BEGIN:STANDARD
TZOFFSETFROM:+0100
TZOFFSETTO:+0000
TZNAME:GMT
DTSTART:20231029T010000
END:STANDARD
BEGIN:DAYLIGHT
TZOFFSETFROM:+0000
TZOFFSETTO:+0100
TZNAME:BST
DTSTART:20240331T010000
END:DAYLIGHT
BEGIN:STANDARD
TZOFFSETFROM:+0100
TZOFFSETTO:+0000
TZNAME:GMT
DTSTART:20241027T010000
END:STANDARD
END:VTIMEZONE
BEGIN:VEVENT
DTSTART;TZID=Europe/London:20240629T080000
DTEND;TZID=Europe/London:20240629T170000
DTSTAMP:20260424T115224
CREATED:20240408T122126Z
LAST-MODIFIED:20240408T122126Z
UID:10000204-1719648000-1719680400@napgc.org.uk
SUMMARY:JUNIORS CHAMPIONSHIP
DESCRIPTION:Golf Genius Event Code: my96w5\nGolf Genius Event Portal: https://www.golfgenius.com/ggid/my96w5
URL:https://napgc.org.uk/event/juniors-championship/
LOCATION:The Downshire Golf Club\, Easthampstead Park\, West Rd\, Bracknell\, Wokingham RG40 3DH\, UK
CATEGORIES:Juniors
GEO:51.3986445;-0.7881712
X-APPLE-STRUCTURED-LOCATION;VALUE=URI;X-ADDRESS=The Downshire Golf Club Easthampstead Park West Rd Bracknell Wokingham RG40 3DH UK;X-APPLE-RADIUS=500;X-TITLE=Easthampstead Park\, West Rd\, Bracknell\, Wokingham RG40 3DH\, UK:geo:-0.7881712,51.3986445
END:VEVENT
BEGIN:VEVENT
DTSTART;VALUE=DATE:20230723
DTEND;VALUE=DATE:20230724
DTSTAMP:20260424T115224
CREATED:20230815T114026Z
LAST-MODIFIED:20230815T114026Z
UID:10000125-1690070400-1690156799@napgc.org.uk
SUMMARY:Junior Championship of England 2023
DESCRIPTION:Junior Championship of England\nThe competition is open to boys and girls who were under 18 years of age on 1st January in the year of the competition \nThe player who returns the lowest gross score will be declared the Public Courses Junior Champion of England.  \nThe Public Courses Team Championship will be awarded to the team that returns the best aggregate nett score from three players. Team scores are made up of the aggregate of three individual nett scores. \nPlay is individual stroke play over 18 holes. \nThe winner of the Boys Championship Sword will represent the NAPGC in the EG Junior Champion of Champions tournament at Woodhall Spa GC on 16th September 2023.  \nThe winner of the NAPGC Girls Trophy\, will represent the NAPGC in the EG Junior Champion of Champions tournament at Woodhall Spa GC on 9th September 2023.  \nJUNIOR CHAMPIONSHIPS RULES 2023\nGENERAL COMPETITION RULES 2023\nJUNIOR MEDICAL CONSENT FORM 2023\nJUNIOR MEDIA CONSENT FORM 2023\nJUNIOR CHAMPIONSHIPS ENTRY FORM2023 \n  \n\n \nJUNIOR CHAMPIONSHIP – Sunday 23rd July 2023\nDOWNSHIRE GOLF COMPLEX
URL:https://napgc.org.uk/event/junior-championship-of-england-2023/
CATEGORIES:Juniors
END:VEVENT
END:VCALENDAR